BEGIN:VCALENDAR
VERSION:2.0
PRODID:-//8 Knots Tavern - ECPv6.10.2//NONSGML v1.0//EN
CALSCALE:GREGORIAN
METHOD:PUBLISH
X-WR-CALNAME:8 Knots Tavern
X-ORIGINAL-URL:https://8knots.com.au
X-WR-CALDESC:Events for 8 Knots Tavern
REFRESH-INTERVAL;VALUE=DURATION:PT1H
X-Robots-Tag:noindex
X-PUBLISHED-TTL:PT1H
BEGIN:VTIMEZONE
TZID:UTC
BEGIN:STANDARD
TZOFFSETFROM:+0000
TZOFFSETTO:+0000
TZNAME:UTC
DTSTART:20260101T000000
END:STANDARD
END:VTIMEZONE
BEGIN:VEVENT
DTSTART;TZID=UTC:20260516T183000
DTEND;TZID=UTC:20260516T213000
DTSTAMP:20260425T120823
CREATED:20260410T012757Z
LAST-MODIFIED:20260410T012757Z
UID:4261-1778956200-1778967000@8knots.com.au
SUMMARY:Fromage & Fizz at 8 Knots Tavern
DESCRIPTION:All you can eat cheese… and a glass always in hand 🧀🥂 \nWe’re bringing together Western Australia’s finest cheeses with a curated Chandon sparkling lineup for a two-hour tasting experience by the river. \nThink long tables\, good company\, and pours that keep coming. \n  \n✨ What’s included: \n  \n• All you can eat WA cheese & grazing table \n• 4 curated glasses: Chandon Brut\, Rosé\, Garden Spritz & Moët & Chandon \n• Hosted by Dana Ingles\, Regional State Manager for Moët Hennessy \n• Additional glasses available on the day \n  \n📅 Saturday\, May 16th \n⏰ 12:30PM – 2:30PM \n🎟 $85pp + BF \n  \nThis one’s made for cheese lovers\, sparkling fans… and anyone who loves a long lunch done right. \n  \n👉 Book your spot now! \n#8knotstavern #perthevents #freoevents #longlunch #winetasting #cheeselovers
URL:https://8knots.com.au/event/fromage-fizz-at-8-knots-tavern/
CATEGORIES:Events
ATTACH;FMTTYPE=image/jpeg:https://8knots.com.au/wp-content/uploads/2026/04/Fromage-and-Fizz-16th-of-May-8-Knots-1-scaled.jpg
END:VEVENT
END:VCALENDAR