BEGIN:VCALENDAR
VERSION:2.0
PRODID:-//8 Knots Tavern - ECPv6.10.2//NONSGML v1.0//EN
CALSCALE:GREGORIAN
METHOD:PUBLISH
X-ORIGINAL-URL:https://8knots.com.au
X-WR-CALDESC:Events for 8 Knots Tavern
REFRESH-INTERVAL;VALUE=DURATION:PT1H
X-Robots-Tag:noindex
X-PUBLISHED-TTL:PT1H
BEGIN:VTIMEZONE
TZID:UTC
BEGIN:STANDARD
TZOFFSETFROM:+0000
TZOFFSETTO:+0000
TZNAME:UTC
DTSTART:20260101T000000
END:STANDARD
END:VTIMEZONE
BEGIN:VEVENT
DTSTART;TZID=UTC:20260518T190000
DTEND;TZID=UTC:20260518T210000
DTSTAMP:20260425T121956
CREATED:20260417T012318Z
LAST-MODIFIED:20260417T012318Z
UID:4265-1779130800-1779138000@8knots.com.au
SUMMARY:Girl Bands vs Boy Bands Quiz Night at 8 Knots Tavern
DESCRIPTION:Spice Girls or Backstreet Boys? 👀 \nThis quiz night… it’s GIRL BANDS vs BOY BANDS 🎤 \n📅 Monday May 18th | 🕖 7PM\n💰 $500 cash prize\n🎟 Free entry \nBig hits. Big nostalgia. Even bigger bragging rights. \n👉 Lock in your table now \n#quiznight #musicquiz #perthpubs #freopubs #90smusic #perthnightlife
URL:https://8knots.com.au/event/girl-bands-vs-boy-bands-quiz-night-at-8-knots-tavern/
CATEGORIES:Events
ATTACH;FMTTYPE=image/jpeg:https://8knots.com.au/wp-content/uploads/2026/04/Jan-1-scaled.jpg
END:VEVENT
END:VCALENDAR