BEGIN:VCALENDAR
VERSION:2.0
PRODID:-//8 Knots Tavern - ECPv6.10.2//NONSGML v1.0//EN
CALSCALE:GREGORIAN
METHOD:PUBLISH
X-ORIGINAL-URL:https://8knots.com.au
X-WR-CALDESC:Events for 8 Knots Tavern
REFRESH-INTERVAL;VALUE=DURATION:PT1H
X-Robots-Tag:noindex
X-PUBLISHED-TTL:PT1H
BEGIN:VTIMEZONE
TZID:UTC
BEGIN:STANDARD
TZOFFSETFROM:+0000
TZOFFSETTO:+0000
TZNAME:UTC
DTSTART:20260101T000000
END:STANDARD
END:VTIMEZONE
BEGIN:VEVENT
DTSTART;TZID=UTC:20260526T183000
DTEND;TZID=UTC:20260526T213000
DTSTAMP:20260425T152803
CREATED:20260417T030628Z
LAST-MODIFIED:20260417T032020Z
UID:4269-1779820200-1779831000@8knots.com.au
SUMMARY:Domaine Naturaliste Wine Dinner at 8 Knots Tavern
DESCRIPTION:Good wine. Great food. Even better company 🍷 \nJoin us for a special evening with Domaine Naturaliste\, where 5 curated wines meet a beautifully paired 3-course dégustation menu by the river. \n  \n📅 Tuesday\, May 26th\n⏰ 6:30PM\n🎟 $95pp + BF \n  \nWhat’s Included: \n🍷 3-course dégustation menu\n🍇 5 expertly paired Domaine Naturaliste wines\n🌊 Riverside dining experience\n✨ Hosted wine pairing experience \nLimited seats available\, secure yours now! \n \n#8knotstavern #winedinner #perthwineevents #freoevents #riversidedining
URL:https://8knots.com.au/event/domaine-naturaliste-wine-dinner-at-8-knots-tavern/
CATEGORIES:Events
ATTACH;FMTTYPE=image/jpeg:https://8knots.com.au/wp-content/uploads/2026/04/Domaine-Naturaliste-wine-dinner-8-Knots-1-scaled.jpg
END:VEVENT
END:VCALENDAR